BEGIN:VCALENDAR
VERSION:2.0
PRODID:icalendar-ruby
CALSCALE:GREGORIAN
METHOD:PUBLISH
BEGIN:VEVENT
DTSTAMP:20260424T131736Z
UID:8-2507985@centralbaptistchurch.ca
DTSTART:20261015T003000Z
DTEND:20261015T013000Z
CLASS:PUBLIC
CREATED:20260424T060950
DESCRIPTION:Cost: Bring a dish to share\; $5 per family for childcare\nFoll
 owing dinner\, children will have an amazing time of play in the gym or nu
 rsery. For parents\, we plan to offer a rotation of relevant Bible studies
 \, prayer support\, personal God stories\, seminars on parenting\, relatio
 nships\, and current cultural issues that affect our families. Ultimately\
 , we seek to equip families so that they may have a greater impact on the 
 city of Victoria!!! \nBabysitting for children (infant to 12 years) is of
 fered at $5 per family. Teens are welcome to participate in the gym games 
 or serve through babysitting and clean-up.\nNew families welcome.\nFor mor
 e information\, contact the church office at 250-385-7786\nor office@centr
 albaptistchurch.ca
LAST-MODIFIED:20260424T060950
LOCATION:
SUMMARY:Family Group
URL;VALUE=URI:https://centralbaptistchurch.ca/events/family-group/2026-10-1
 4
ATTACH;FILENAME=KIDS & FAMILY copy.jpg;FMTTYPE=image/jpeg:https://dq5pwpg1q
 8ru0.cloudfront.net/2016/01/15/15/46/02/6809c3a8-7d00-49fb-a0a1-5f69f8eb9e
 be/KIDS%20&%20FAMILY%20copy.jpg
END:VEVENT
END:VCALENDAR
